BEGIN:VCALENDAR
VERSION:2.0
PRODID:-//ChamberMaster//Event Calendar 2.0//EN
METHOD:PUBLISH
X-PUBLISHED-TTL:P3D
REFRESH-INTERVAL:P3D
CALSCALE:GREGORIAN
BEGIN:VEVENT
DTSTART:20151019T140000Z
DTEND:20151019T220000Z
X-MICROSOFT-CDO-ALLDAYEVENT:FALSE
SUMMARY:Educator Appreciation Day
DESCRIPTION:Hilltop Mall is thanking educators with a day that is specifically for them. All educators are invited for this special event. Participating stores will be giving special discounts only to educators\, some up to 40% off. Each attending educator will receive a gift bag filled with coupons and items from Hilltop Mall stores\, along with chances to win raffle prizes\, such as a necklace and earring set\, gift cards from multiple Hilltop Mall stores\, and a delivery of cupcakes to the winning teacher?s classroom provided by Smallcakes of Kearney! The event begins at 5:30pm with hors d?oeuvres and gift bags\, followed by drawing winners for raffle prizes. If any educators cannot make it to the event but would still like to partake in the discounts\, they may stop by the Hilltop Mall Office between 9am and 5 pm to receive their identifying name tag and gift bag. For more information on the event\, please contact the Hilltop Mall Office at 308-236-9798\, or visit www.shophillmall.com.
X-ALT-DESC;FMTTYPE=text/html:Hilltop Mall is thanking educators with a day that is specifically for them. All educators are invited for this special event. Participating stores will be giving special discounts only to educators\, some up to 40% off. Each attending educator will receive a gift bag filled with coupons and items from Hilltop Mall stores\, along with chances to win raffle prizes\, such as a necklace and earring set\, gift cards from multiple Hilltop Mall stores\, and a delivery of cupcakes to the winning teacher?s classroom provided by Smallcakes of Kearney! The event begins at 5:30pm with hors d?oeuvres and gift bags\, followed by drawing winners for raffle prizes. If any educators cannot make it to the event but would still like to partake in the discounts\, they may stop by the Hilltop Mall Office between 9am and 5 pm to receive their identifying name tag and gift bag. For more information on the event\, please contact the Hilltop Mall Office at 308-236-9798\, or visit www.shophillmall.com.
LOCATION:Hilltop Mall 5011 2nd Ave Kearney\, NE 68847
UID:e.1404.7025
SEQUENCE:3
DTSTAMP:20260422T100435Z
URL:https://members.kearneycoc.org/events/details/educator-appreciation-day-10-19-2015-7025
END:VEVENT

END:VCALENDAR
