BEGIN:VCALENDAR
VERSION:2.0
PRODID:-//ChamberMaster//Event Calendar 2.0//EN
METHOD:PUBLISH
X-PUBLISHED-TTL:P3D
REFRESH-INTERVAL:P3D
CALSCALE:GREGORIAN
BEGIN:VEVENT
DTSTART:20160311T140000Z
DTEND:20160311T150000Z
X-MICROSOFT-CDO-ALLDAYEVENT:FALSE
SUMMARY:Eggs & Issues
DESCRIPTION:Join the Speaker of the Nebraska Legislature\, Galen Hadley as he discusses what has transpired so far in the 2016 Legislative Session and what to expect for the rest of the session.
X-ALT-DESC;FMTTYPE=text/html:Join the Speaker of the Nebraska Legislature\, Galen Hadley as he discusses what has transpired so far in the 2016 Legislative Session and what to expect for the rest of the session.&nbsp\;
LOCATION:Kearney Area Chamber of Commerce 1007 2nd Ave Kearney\, Nebraska
UID:e.1404.7479
SEQUENCE:3
DTSTAMP:20260422T010949Z
URL:https://members.kearneycoc.org/events/details/eggs-issues-03-11-2016-7479
END:VEVENT

END:VCALENDAR
