BEGIN:VCALENDAR
VERSION:2.0
PRODID:-//ChamberMaster//Event Calendar 2.0//EN
METHOD:PUBLISH
X-PUBLISHED-TTL:P3D
REFRESH-INTERVAL:P3D
CALSCALE:GREGORIAN
BEGIN:VEVENT
DTSTART:20120709T160000Z
DTEND:20120709T170000Z
X-MICROSOFT-CDO-ALLDAYEVENT:FALSE
SUMMARY:El Maguey Ribbon Cutting
DESCRIPTION:Join us as we celebrate the grand opening of Kearney's newest authentic Mexican restaurant\, El Maguey\, with a ceremonial ribbon cutting
X-ALT-DESC;FMTTYPE=text/html:Join us as we celebrate the grand opening of Kearney&#39\;s newest authentic Mexican restaurant\, El Maguey\, with a ceremonial ribbon cutting
LOCATION:1104 2nd Avenue
UID:e.1404.1943
SEQUENCE:3
DTSTAMP:20260425T033059Z
URL:https://members.kearneycoc.org/events/details/el-maguey-ribbon-cutting-07-09-2012-1943
END:VEVENT

END:VCALENDAR
