BEGIN:VCALENDAR
VERSION:2.0
PRODID:-//ChamberMaster//Event Calendar 2.0//EN
METHOD:PUBLISH
X-PUBLISHED-TTL:P3D
REFRESH-INTERVAL:P3D
CALSCALE:GREGORIAN
BEGIN:VEVENT
DTSTART:20150801T140000Z
DTEND:20150801T230000Z
X-MICROSOFT-CDO-ALLDAYEVENT:FALSE
SUMMARY:Elks Lodge #984 2nd Annual 2-Person Scramble
DESCRIPTION:The Elks Lodge is hosting its 2nd annual 2-person scramble at the Elks Country Golf Course. A maximum of 27 teams that can register so sign up early! There will be a $10\,00 prize for hole in one and $500 in prize money. Tee off is at 9am and registrations need to be in by July 30\, 2015. There will be a winner for women's\, men's\, and couple's teams. For more information or questions about registration\, contact the Elks Country Golf Course at (308) 238-0760.
X-ALT-DESC;FMTTYPE=text/html:The Elks Lodge is hosting its 2nd annual 2-person scramble at the Elks Country Golf Course. A maximum of 27 teams that can register so sign up early! There will be a $10\,00 prize for hole in one and $500 in prize money. Tee off is at 9am and registrations need to be in by July 30\, 2015. There will be a winner for women&#39\;s\, men&#39\;s\, and couple&#39\;s teams. For more information or questions about registration\, contact the Elks Country Golf Course at&nbsp\;(308) 238-0760.
LOCATION:Elks Country Golf Course 2635 E. 103rd St. Kearney\, NE
UID:e.1404.6667
SEQUENCE:3
DTSTAMP:20260422T114932Z
URL:https://members.kearneycoc.org/events/details/elks-lodge-984-2nd-annual-2-person-scramble-08-01-2015-6667
END:VEVENT

END:VCALENDAR
