BEGIN:VCALENDAR
VERSION:2.0
PRODID:-//ChamberMaster//Event Calendar 2.0//EN
METHOD:PUBLISH
X-PUBLISHED-TTL:P3D
REFRESH-INTERVAL:P3D
CALSCALE:GREGORIAN
BEGIN:VEVENT
DTSTART:20150917T180000Z
DTEND:20150917T220000Z
X-MICROSOFT-CDO-ALLDAYEVENT:FALSE
SUMMARY:Employment Law Forum
DESCRIPTION:We invite you and members from your organization to attend this half-day educational seminar addressing employment-related issues from legal and risk management standpoints.  Attendance is free for all registrants.  This seminar is designed for:\n\n\n	Human Resource Managers and Staff\n	Managers and Supervisors\n	Business Owners\n	Corporate Attorneys\n	Senior Executives\n	EEO and Risk Management\n\n\nThe Employment Law Forum has been approved for continuing education credits from the Nebraska and Iowa CLE Commissions\, the Nebraska Board of Public Accountancy\, and the HR Certification Institute.  Registration Deadline is Monday\, September 14.  Click here to register.
X-ALT-DESC;FMTTYPE=text/html:<div style="clear:both\;">We invite you and members from your organization to attend this half-day educational seminar addressing employment-related issues from legal and risk management standpoints. &nbsp\;Attendance is free for all registrants. &nbsp\;This seminar is designed for:</div>\n\n<ul>\n	<li style="clear: both\;">Human Resource Managers and Staff</li>\n	<li style="clear: both\;">Managers and Supervisors</li>\n	<li style="clear: both\;">Business Owners</li>\n	<li style="clear: both\;">Corporate Attorneys</li>\n	<li style="clear: both\;">Senior Executives</li>\n	<li style="clear: both\;">EEO and Risk Management</li>\n</ul>\n\n<div style="clear: both\;">The Employment Law Forum has been approved for continuing education credits from the Nebraska and Iowa CLE Commissions\, the Nebraska Board of Public Accountancy\, and the HR Certification Institute. &nbsp\;<span style="line-height: 1.6\;">Registration Deadline is Monday\, September </span>14<span style="line-height: 1.6\;">. &nbsp\;Click <a href="https://events.r20.constantcontact.com/register/eventReg?oeidk=a07eb58xoxadb84ccf3&amp\;oseq=&amp\;c=&amp\;ch=">here</a> to register.</span></div>\n
LOCATION:Younes Conference Center 416 W. Talmadge Rd.
UID:e.1404.6679
SEQUENCE:3
DTSTAMP:20260422T114700Z
URL:https://members.kearneycoc.org/events/details/employment-law-forum-09-17-2015-6679
END:VEVENT

END:VCALENDAR
