BEGIN:VCALENDAR
VERSION:2.0
PRODID:-//ChamberMaster//Event Calendar 2.0//EN
METHOD:PUBLISH
X-PUBLISHED-TTL:P3D
REFRESH-INTERVAL:P3D
CALSCALE:GREGORIAN
BEGIN:VEVENT
DTSTART:20160601T223000Z
DTEND:20160602T003000Z
X-MICROSOFT-CDO-ALLDAYEVENT:FALSE
SUMMARY:Entrepreneur Group Meeting
DESCRIPTION:KEARNEY   A new group will offer support to new entrepreneurs and small business owners in Kearney.\n\nThe first meeting will be from 5:30-7:30 p.m. June 1 at Cunningham's Journal at 15 W. 23rd St.\n\nAttendees will have the opportunity to share their success stories and their current challenges\, discuss strategies\, network\, learn from experts\, create partnerships\, give advice to others and gain support and guidance.\n\n"Starting a new business or running a small business can be overwhelming. Forming relationships allows us to learn from others\, have support and accountability\, and even cultivate partnerships\," said Sara Giboney\, group organizer.\n\nThe meetings will feature expert speakers on topics such as social media marketing\, branding\, target market\, finances and more. Group members are encouraged to share their topics of interest. Those topics will be discussed at future meetings.\n\nThe group receives support from the University of Nebraska at Kearney Entrepreneurship Center.\n\nMeetings are free and open to new and small business owners and those interested in starting a business.
X-ALT-DESC;FMTTYPE=text/html:<span style="font-size:9.5pt\;">KEARNEY &ndash\; A new group will offer support to new entrepreneurs and small business owners in Kearney.</span><br />\n<span style="font-size:9.5pt\;">The first meeting will be from&nbsp\;5:30-7:30 p.m.&nbsp\;June 1&nbsp\;at Cunningham&rsquo\;s Journal at 15 W. 23<sup>rd</sup>&nbsp\;St.</span><br />\n<span style="font-size:9.5pt\;">Attendees will have the opportunity to share their success stories and their current challenges\, discuss strategies\, network\, learn from experts\, create partnerships\, give advice to others and gain support and guidance.</span><br />\n<span style="font-size:9.5pt\;">&ldquo\;Starting a new business or running a small business can be overwhelming. Forming relationships allows us to learn from others\, have support and accountability\, and even cultivate partnerships\,&rdquo\; said Sara Giboney\, group organizer.</span><br />\n<span style="font-size:9.5pt\;">The meetings will feature expert speakers on topics such as social media marketing\, branding\, target market\, finances and more. Group members are encouraged to share their topics of interest. Those topics will be discussed at future meetings.</span><br />\n<span style="font-size:9.5pt\;">The group receives support from the University of Nebraska at Kearney Entrepreneurship Center.</span><br />\n<span style="font-size:9.5pt\;">Meetings are free and open to new and small business owners and those interested in starting a business.</span><br />\n<br />\n<br />\n&nbsp\;<br />\n<br />\n<br />\n&nbsp\;
LOCATION:Cunningham's Journal 15 W 23rd St
UID:e.1404.8782
SEQUENCE:3
DTSTAMP:20260421T184435Z
URL:https://members.kearneycoc.org/events/details/entrepreneur-group-meeting-06-01-2016-8782
END:VEVENT

END:VCALENDAR
