BEGIN:VCALENDAR
VERSION:2.0
PRODID:-//ChamberMaster//Event Calendar 2.0//EN
METHOD:PUBLISH
X-PUBLISHED-TTL:P3D
REFRESH-INTERVAL:P3D
CALSCALE:GREGORIAN
BEGIN:VEVENT
DTSTART:20191004T170000Z
DTEND:20191004T230000Z
X-MICROSOFT-CDO-ALLDAYEVENT:FALSE
SUMMARY:Envoy/YPN Blood Drive
DESCRIPTION:Sign up to donate blood today! \n\nhttps://www.redcrossblood.org/give.html/drive-results?zipSponsor=kearneychamber&cid=siebel&med=email&source=bdc_email&utm_source=siebel&utm_medium=email&utm_campaign=bdc_email
X-ALT-DESC;FMTTYPE=text/html:Sign up to donate blood today!&nbsp\;<br />\n<a href="https://www.redcrossblood.org/give.html/drive-results?zipSponsor=kearneychamber&amp\;cid=siebel&amp\;med=email&amp\;source=bdc_email&amp\;utm_source=siebel&amp\;utm_medium=email&amp\;utm_campaign=bdc_email">https://www.redcrossblood.org/give.html/drive-results?zipSponsor=kearneychamber&amp\;cid=siebel&amp\;med=email&amp\;source=bdc_email&amp\;utm_source=siebel&amp\;utm_medium=email&amp\;utm_campaign=bdc_email</a>
LOCATION:American Red Cross - Ft. Kearney Chapter 520 W 48th St.
UID:e.1404.18154
SEQUENCE:3
DTSTAMP:20260425T164000Z
URL:https://members.kearneycoc.org/events/details/envoy-ypn-blood-drive-18154
END:VEVENT

END:VCALENDAR
