BEGIN:VCALENDAR
VERSION:2.0
PRODID:-//ChamberMaster//Event Calendar 2.0//EN
METHOD:PUBLISH
X-PUBLISHED-TTL:P3D
REFRESH-INTERVAL:P3D
CALSCALE:GREGORIAN
BEGIN:VEVENT
DTSTART:20260303T233000Z
DTEND:20260304T013000Z
X-MICROSOFT-CDO-ALLDAYEVENT:FALSE
SUMMARY:Envoys March Mixer
DESCRIPTION:Chair: Amy Bettles\, Barney Financial Services\n\nVice Chair:  Kristi Gargan\, Wilkins ADP\n\n\n\nMarch Mixer!!  All Envoy Members and anyone interested in becoming an Envoy is invited! \n\n\n\n\n\nThe Envoys is a women's group dedicated to serving as the public relations arm of the Kearney Area Chamber of Commerce. Their mission is carried out through a variety of activities\, including hosting membership mixers\, attending and promoting grand openings\, Ribbon Cuttings\, Business After Hours\, the Gateway Farm Expo\, the KACC Annual Meeting\, and events like Friend and Youth Friend of Kearney and the Buffalo County Fair. Additionally\, they focus on membership recruitment and retention efforts. Membership is limited to one representative per business\, with no cap on the total number of members. A small annual fee is required to join.
X-ALT-DESC;FMTTYPE=text/html:<span style="font-size: 14px\;"><span style="font-family: arial\;"><strong>Chair:</strong>&nbsp\;</span></span><span style="font-family: arial\; font-size: 14px\;">Amy Bettles\, Barney Financial Services</span><br />\n<span style="font-size: 14px\;"><span style="font-family: arial\;"><strong>Vice Chair:</strong>&nbsp\; Kristi Gargan\, Wilkins ADP</span></span><br />\n<br />\nMarch Mixer!!&nbsp\;&nbsp\;<span style="font-family:aptos\,sans-serif\;"><span style="font-size:11.0pt\;">All Envoy Members and anyone interested in becoming an Envoy is invited!&nbsp\;</span></span><br />\n<br />\n<br />\nThe Envoys is a women&rsquo\;s group dedicated to serving as the public relations arm of the Kearney Area Chamber of Commerce. Their mission is carried out through a variety of activities\, including hosting membership mixers\, attending and promoting grand openings\, Ribbon Cuttings\, Business After Hours\, the Gateway Farm Expo\, the KACC Annual Meeting\, and events like Friend and Youth Friend of Kearney and the Buffalo County Fair. Additionally\, they focus on membership recruitment and retention efforts. Membership is limited to one representative per business\, with no cap on the total number of members. A small annual fee is required to join.
LOCATION:Sip & Swirl Wine Bar
UID:e.1404.25140
SEQUENCE:3
DTSTAMP:20260426T031836Z
URL:https://members.kearneycoc.org/events/details/envoys-march-mixer-03-03-2026-25140
END:VEVENT

END:VCALENDAR
