BEGIN:VCALENDAR
VERSION:2.0
PRODID:-//ChamberMaster//Event Calendar 2.0//EN
METHOD:PUBLISH
X-PUBLISHED-TTL:P3D
REFRESH-INTERVAL:P3D
CALSCALE:GREGORIAN
BEGIN:VEVENT
DTSTART:20151208T010000Z
DTEND:20151208T020000Z
X-MICROSOFT-CDO-ALLDAYEVENT:FALSE
SUMMARY:Erik Kaiel & Laurel Jenkins
DESCRIPTION:Pushing the limits of gravity and physical possibility\, Netherlands-based dancer/ choreographer Erik Kaiel and LA-based movement artist Laurel Jenkins perform breathtaking duets in this program created exclusively for Nebraska audiences. Witness the brand-new duet "Weatherwein"\, created in residency at the Lied Center\, and the powerful "No Man is an Island"\, which explores balance as one body climbs and shifts atop another without ever touching the ground. The performance also features "O Pions Near"\, collaboratively created and performed by aspiring young dancers from your community.
X-ALT-DESC;FMTTYPE=text/html:Pushing the limits of gravity and physical possibility\, Netherlands-based dancer/ choreographer Erik Kaiel and LA-based movement artist Laurel Jenkins perform breathtaking duets in this program created exclusively for Nebraska audiences. Witness the brand-new duet &quot\;Weatherwein&quot\;\, created in residency at the Lied Center\, and the powerful &quot\;No Man is an Island&quot\;\, which explores balance as one body climbs and shifts atop another without ever touching the ground. The performance also features &quot\;O Pions Near&quot\;\, collaboratively created and performed by aspiring young dancers from your community.
LOCATION:Merryman Performing Arts Center
UID:e.1404.7218
SEQUENCE:3
DTSTAMP:20260422T052025Z
URL:https://members.kearneycoc.org/events/details/erik-kaiel-laurel-jenkins-12-07-2015-7218
END:VEVENT

END:VCALENDAR
