BEGIN:VCALENDAR
VERSION:2.0
PRODID:-//ChamberMaster//Event Calendar 2.0//EN
METHOD:PUBLISH
X-PUBLISHED-TTL:P3D
REFRESH-INTERVAL:P3D
CALSCALE:GREGORIAN
BEGIN:VEVENT
DTSTART:20190424T130000Z
DTEND:20190424T220000Z
X-MICROSOFT-CDO-ALLDAYEVENT:FALSE
SUMMARY:Essential Personnel Job Fair
DESCRIPTION:Essential Personnel will be hosting a Job Fair on April 24\, 2019. It will be located at 218 W 25th St in Kearney from 9am-5pm. We have multiple openings in Healthcare\, Customer Service\, Management\, Shipping\, Weld\, Paint\, Assembly\, and other production positions. Please stop down to our office and see us or give us a call at 308-233-4400!
X-ALT-DESC;FMTTYPE=text/html:Essential Personnel will be hosting a Job Fair on April 24\, 2019. It will be located at 218 W 25th St in Kearney from 9am-5pm. We have multiple openings in Healthcare\, Customer Service\, Management\, Shipping\, Weld\, Paint\, Assembly\, and other production positions. Please stop down to our office and see us or give us a call at 308-233-4400!
LOCATION:218 W 25th Street Kearney\, NE 68845
UID:e.1404.15957
SEQUENCE:3
DTSTAMP:20260426T020749Z
URL:https://members.kearneycoc.org/events/details/essential-personnel-job-fair-04-24-2019-15957
END:VEVENT

END:VCALENDAR
