BEGIN:VCALENDAR
VERSION:2.0
PRODID:-//ChamberMaster//Event Calendar 2.0//EN
METHOD:PUBLISH
X-PUBLISHED-TTL:P3D
REFRESH-INTERVAL:P3D
CALSCALE:GREGORIAN
BEGIN:VEVENT
DTSTART:20190709T140000Z
DTEND:20190709T170000Z
X-MICROSOFT-CDO-ALLDAYEVENT:FALSE
SUMMARY:Explore Theater Camps with Crane River
DESCRIPTION:SHOPKINS FOR A DAY!\n\nGrab your boarding pass and come on a worldwide ride with your favorite Shoppies! Kids will discover what makes them unique as they create their own special characters in the magical village of Shopville. Join Apple Blossom\, Kooky Cookie and Licky Lips for a Shopkins day filled with games\, crafts\, dance and songs!\n\nAges 4\, 5 and 6\n\nTuesday\, July 9th  9am-12pm\n\n$20\n\n\n\nPRINCESS FOR A DAY!\n\nLearn what it takes to be royalty in this magical class that allows every girl the opportunity to step into the life of her favorite princess for a day! How does a princess walk and talk? There will even be special appearances from Snow White\, Cinderella\, Moana\, Anna and Elsa themselves. Princess Tote Bag included. This is always a favorite session\, so sign up early!\n\nAges 4\, 5 and 6\n\nJuly 10th | 9am-12pm and 1pm-4pm\n\n$20\n\n\n\nTOY STORY FOR A DAY!\n\nAndy invites you to come play with him and all of his favorite toys! Join good-hearted Woody and his best friend\, Buzz Lightyear\, along with Jessie\, Bullseye\, Slinky Dog\, Mr. & Mrs. Potato Head and more! We will learn about teamwork and cooperation\, all while having fun. Bring your favorite toy to share\, and sing along with songs like "You've Got A Friend in Me" and more!\n\nAges 4\, 5 and 6\n\nJuly 11th  |  9am-12pm\n\n$20\n\n\n\nTROLL FOR A DAY!\n\nJoin Poppy and her friends as they set off on an adventure to save Troll Village from the Bergens. Their adventures and travels are full of mishaps and challenges as they learn to accept their differences and work together! Kids will have fun exploring their "True Colors" through games\, songs\, and more!\n\nAges 4\, 5 and 6\n\nJuly 12th  |  9am-12pm\n\n$20\n\n\n\nThese camps are operated by Crane River Theater Company\n\nOffered in part by the Kearney Area Children's Museum
X-ALT-DESC;FMTTYPE=text/html:<u><strong>SHOPKINS FOR A DAY!</strong></u><br />\nGrab your boarding pass and come on a worldwide ride with your favorite Shoppies! Kids will discover what makes them unique as they create their own special characters in the magical village of Shopville. Join Apple Blossom\, Kooky Cookie and Licky Lips for a Shopkins day filled with games\, crafts\, dance and songs!<br />\nAges 4\, 5 and 6<br />\nTuesday\, July 9th&nbsp\; 9am-12pm<br />\n$20<br />\n<br />\n<u><strong>PRINCESS FOR A DAY!</strong></u><br />\nLearn what it takes to be royalty in this magical class that allows every girl the opportunity to step into the life of her favorite princess for a day! How does a princess walk and talk? There will even be special appearances from Snow White\, Cinderella\, Moana\, Anna and Elsa themselves. Princess Tote Bag included.&nbsp\;This is always a favorite session\, so sign up early!<br />\nAges 4\, 5 and 6<br />\nJuly 10th&nbsp\;| 9am-12pm and 1pm-4pm<br />\n$20<br />\n<br />\n<u><strong>TOY STORY FOR A DAY!</strong></u><br />\nAndy invites you to come play with him and all of his favorite toys! Join good-hearted Woody and his best friend\, Buzz Lightyear\, along with Jessie\, Bullseye\, Slinky Dog\, Mr. &amp\; Mrs. Potato Head and more! We will learn about teamwork and cooperation\, all while having fun. Bring your favorite toy to share\, and sing along with songs like &ldquo\;You&rsquo\;ve Got A Friend in Me&rdquo\; and more!<br />\nAges 4\, 5 and 6<br />\nJuly 11th&nbsp\; |&nbsp\; 9am-12pm<br />\n$20<br />\n<br />\n<u><strong>TROLL FOR A DAY!</strong></u><br />\nJoin Poppy and her friends as they set off on an adventure to save Troll Village from the Bergens. Their adventures and travels are full of mishaps and challenges as they learn to accept their differences and work together! Kids will have fun exploring their &ldquo\;True Colors&rdquo\; through games\, songs\, and more!<br />\nAges 4\, 5 and 6<br />\nJuly 12th&nbsp\; |&nbsp\; 9am-12pm<br />\n$20<br />\n<br />\nThese camps are operated by Crane River Theater Company<br />\nOffered in part by the Kearney Area Children&#39\;s Museum
LOCATION:Kearney Area Children's Museum The Alia Arram Memorial Building\, 5827 4th Ave\, Kearney\, NE 68845
UID:e.1404.16542
SEQUENCE:3
DTSTAMP:20260425T213103Z
URL:https://members.kearneycoc.org/events/details/explore-theater-camps-with-crane-river-16542
END:VEVENT

END:VCALENDAR
