BEGIN:VCALENDAR
VERSION:2.0
PRODID:-//ChamberMaster//Event Calendar 2.0//EN
METHOD:PUBLISH
X-PUBLISHED-TTL:P3D
REFRESH-INTERVAL:P3D
CALSCALE:GREGORIAN
BEGIN:VEVENT
DTSTART:20160920T180000Z
DTEND:20160920T214500Z
X-MICROSOFT-CDO-ALLDAYEVENT:FALSE
SUMMARY:Exporting 101 - The Basics of Exporting
DESCRIPTION:Learn how to prepare your company for the international marketplace:  market\, sell\, and ship to customers worldwide. Don't miss this unique opportunity to learn from the most experienced export resource professionals in Nebraska.\n\n			 \n\n			PRESENTATIONS INCLUDE:\n\n			  Successful Exporter Profile\n\n			  Successful Exporter Panel  meet our District Export Council\n\n			  Working with Foreign Sales Partners\n\n			  Getting Paid for International Sales\n\n			  Getting your Product to Market: Logistics & Documentation\n\n			  Local Resources and Programs\n\n			 \n\n			PRESENTERS INCLUDE:   U.S. Commercial Service\, Nebraska Department of Economic Development\, First National Bank\, Nebraska Business Development Center\, Nebraska District Export Council members\n\n			\n\n			Many thanks to UNK's Center for Rural Research and Development for making this program possible.
X-ALT-DESC;FMTTYPE=text/html:<table align="left" cellpadding="0" cellspacing="0" hspace="0" vspace="0">\n	<tbody>\n		<tr>\n			<td align="left" style="padding-top:0in\;padding-right:9.0pt\;padding-bottom:0in\;padding-left:9.0pt\;vertical-align:top\;"><span style="font-size:14.0pt\;">Learn how to prepare your company for the international marketplace:&nbsp\; market\, sell\, and ship to customers worldwide. Don&#39\;t miss this unique opportunity to learn from the most experienced export resource professionals in Nebraska.</span><br />\n			&nbsp\;<br />\n			<span style="font-size:11.0pt\;">PRESENTATIONS INCLUDE:</span><br />\n			<span style="font-size:11.0pt\;">&bull\; Successful Exporter Profile</span><br />\n			<span style="font-size:11.0pt\;">&bull\; Successful Exporter Panel &ndash\;meet our District Export Council</span><br />\n			<span style="font-size:11.0pt\;">&bull\; Working with Foreign Sales Partners</span><br />\n			<span style="font-size:11.0pt\;">&bull\; Getting Paid for International Sales</span><br />\n			<span style="font-size:11.0pt\;">&bull\; Getting your Product to Market: Logistics &amp\; Documentation</span><br />\n			<span style="font-size:11.0pt\;">&bull\; Local Resources and Programs</span><br />\n			&nbsp\;<br />\n			<span style="font-size:11.0pt\;">PRESENTERS INCLUDE:&nbsp\;&nbsp\; U.S. Commercial Service\, Nebraska Department of Economic Development\, First National Bank\, Nebraska Business Development Center\, Nebraska District Export Council members</span><br />\n			<br />\n			<span style="line-height: 20.8px\; color: rgb(88\, 89\, 91)\;"><span style="font-family: &quot\;trebuchet ms&quot\;\, sans-serif\;"><span style="font-size: 11pt\;">Many thanks to UNK&rsquo\;s Center for Rural Research and Development for making this program possible</span></span></span><span style="line-height: 20.8px\; color: rgb(88\, 89\, 91)\;"><span style="font-family: &quot\;trebuchet ms&quot\;\, sans-serif\;"><span style="font-size: 16pt\;">.&nbsp\;</span></span></span></td>\n		</tr>\n	</tbody>\n</table>\n\n<div style="clear:both\;">&nbsp\;</div>\n
LOCATION:UNK - Ockinga Conference Room 2505 20th Ave
UID:e.1404.8969
SEQUENCE:3
DTSTAMP:20260421T140417Z
URL:https://members.kearneycoc.org/events/details/exporting-101-the-basics-of-exporting-09-20-2016-8969
END:VEVENT

END:VCALENDAR
