BEGIN:VCALENDAR
VERSION:2.0
PRODID:-//ChamberMaster//Event Calendar 2.0//EN
METHOD:PUBLISH
X-PUBLISHED-TTL:P3D
REFRESH-INTERVAL:P3D
CALSCALE:GREGORIAN
BEGIN:VEVENT
DTSTART:20210209T230000Z
DTEND:20210210T030000Z
X-MICROSOFT-CDO-ALLDAYEVENT:FALSE
SUMMARY:Faith Christian School - Gambino's night Fundraiser
DESCRIPTION:Please join us in supporting Faith Christian School by participating in our Gambino's Night Fundraiser. A percentage of all sales will go to supporting high Christian Education in Kearney!
X-ALT-DESC;FMTTYPE=text/html:Please join us in supporting Faith Christian School by participating in our Gambino&#39\;s Night Fundraiser. A percentage of all sales will go to supporting high Christian Education in Kearney!
LOCATION:Gambino's Pizza 2715 2nd Ave Ste A\, Kearney\, NE 68847
UID:e.1404.19075
SEQUENCE:3
DTSTAMP:20260424T160043Z
URL:https://members.kearneycoc.org/events/details/faith-christian-school-gambino-s-night-fundraiser-19075
END:VEVENT

END:VCALENDAR
