BEGIN:VCALENDAR
VERSION:2.0
PRODID:-//ChamberMaster//Event Calendar 2.0//EN
METHOD:PUBLISH
X-PUBLISHED-TTL:P3D
REFRESH-INTERVAL:P3D
CALSCALE:GREGORIAN
BEGIN:VEVENT
DTSTART:20160910T150000Z
DTEND:20160911T230000Z
X-MICROSOFT-CDO-ALLDAYEVENT:FALSE
SUMMARY:Fall Craft and Gift Show
DESCRIPTION:Fall is just around the corner\, smells of pumpkin and the sound of crisp leaves on the ground make you want to decorate your home and settle in to cooler weather. So get to hilltop malls fall craft and gift show Saturday September 10th and Sunday September 11th. This show will feature handmade pottery and wood products\, household and skin products\, Scentsy\, Lipsense\, and so much more . Hilltop mall stores all have fall on their mind so come shop with us and enjoy all of our vendors\, or to be one of them call or visit the mall office for more information.
X-ALT-DESC;FMTTYPE=text/html:Fall is just around the corner\, smells of pumpkin and the sound of crisp leaves on the ground make you want to decorate your home and settle in to cooler weather. So get to hilltop malls fall craft and gift show Saturday September 10th and Sunday September 11th. This show will feature handmade pottery and wood products\, household and skin products\, Scentsy\, Lipsense\, and so much more . Hilltop mall stores all have fall on their mind so come shop with us and enjoy all of our vendors\, or to be one of them call or visit the mall office for more information.
LOCATION:Hilltop Mall
UID:e.1404.9008
SEQUENCE:3
DTSTAMP:20260421T152902Z
URL:https://members.kearneycoc.org/events/details/fall-craft-and-gift-show-9008
END:VEVENT

END:VCALENDAR
