BEGIN:VCALENDAR
VERSION:2.0
PRODID:-//ChamberMaster//Event Calendar 2.0//EN
METHOD:PUBLISH
X-PUBLISHED-TTL:P3D
REFRESH-INTERVAL:P3D
CALSCALE:GREGORIAN
BEGIN:VEVENT
DTSTART:20161022T140000Z
DTEND:20161022T210000Z
X-MICROSOFT-CDO-ALLDAYEVENT:FALSE
SUMMARY:Fall Festival Craft Show
DESCRIPTION:32nd Year of Fall Festival Craft Show\n\nFree Admission\n\nOver 260 Booths
X-ALT-DESC;FMTTYPE=text/html:32nd Year of Fall Festival Craft Show<br />\nFree Admission<br />\nOver 260 Booths
LOCATION:New Expo Building Buffalo County Fairgrounds 3807 Avenue N
UID:e.1404.9055
SEQUENCE:3
DTSTAMP:20260421T122745Z
URL:https://members.kearneycoc.org/events/details/fall-festival-craft-show-9055
END:VEVENT

END:VCALENDAR
