BEGIN:VCALENDAR
VERSION:2.0
PRODID:-//ChamberMaster//Event Calendar 2.0//EN
METHOD:PUBLISH
X-PUBLISHED-TTL:P3D
REFRESH-INTERVAL:P3D
CALSCALE:GREGORIAN
BEGIN:VEVENT
DTSTART;VALUE=DATE:20161001
DTEND;VALUE=DATE:20161201
TRANSP:TRANSPARENT
X-MICROSOFT-CDO-ALLDAYEVENT:TRUE
SUMMARY:Fall Food Drive
DESCRIPTION:During the months of October and November MasterCuts and SmartStyle salons will be doing a canned food drive! Stop in and receive 10% off a service with a canned food donation and give back to the community! If you have any additional questions email whiteann24@yahoo.com.
X-ALT-DESC;FMTTYPE=text/html:During the months of October and November MasterCuts and SmartStyle salons will be doing a canned food drive! Stop in and receive 10% off a service with a canned food donation and give back to the community! If you have any additional questions email whiteann24@yahoo.com.
LOCATION:Hilltop Malll 5011 2nd Ave Kearney Ne 68847
UID:e.1404.9059
SEQUENCE:3
DTSTAMP:20260421T102307Z
URL:https://members.kearneycoc.org/events/details/fall-food-drive-9059
END:VEVENT

END:VCALENDAR
