BEGIN:VCALENDAR
VERSION:2.0
PRODID:-//ChamberMaster//Event Calendar 2.0//EN
METHOD:PUBLISH
X-PUBLISHED-TTL:P3D
REFRESH-INTERVAL:P3D
CALSCALE:GREGORIAN
BEGIN:VEVENT
DTSTART:20191004T220000Z
DTEND:20191007T020000Z
X-MICROSOFT-CDO-ALLDAYEVENT:FALSE
SUMMARY:Fall Side Walk Sales
DESCRIPTION:Join us for the best deals of the season!
X-ALT-DESC;FMTTYPE=text/html:Join us for the best deals of the season!
LOCATION:Hilltop Mall
UID:e.1404.18144
SEQUENCE:3
DTSTAMP:20260425T163602Z
URL:https://members.kearneycoc.org/events/details/fall-side-walk-sales-18144
END:VEVENT

END:VCALENDAR
