BEGIN:VCALENDAR
VERSION:2.0
PRODID:-//ChamberMaster//Event Calendar 2.0//EN
METHOD:PUBLISH
X-PUBLISHED-TTL:P3D
REFRESH-INTERVAL:P3D
CALSCALE:GREGORIAN
BEGIN:VEVENT
DTSTART:20151011T170000Z
DTEND:20151011T230000Z
X-MICROSOFT-CDO-ALLDAYEVENT:FALSE
SUMMARY:Fall Sidewalk Sales
DESCRIPTION:Hilltop Mall in Kearney invites YOU to our Annual Fall Sidewalk Sales\, October 9th through the 11th. Find everything your family needs - from basic denim to designer shoes\,jewelry and accessories to books and gifts and so much more! Shop Herbergers\, JCPenney\, Old Navy  and ALL of our great stores for savings on summer and fall styles. Get a jumpstart on holiday shopping and winter fashions too\, at Hilltop Mall. And remember the mall on Halloween night\, always a safe and warm place to trick-or-treat!
X-ALT-DESC;FMTTYPE=text/html:<span style="line-height: 20.8px\;">Hilltop Mall in Kearney invites YOU to our Annual Fall Sidewalk Sales\, October 9th through the&nbsp\;</span>11th<span style="line-height: 20.8px\;">. Find everything your family needs - from basic denim to designer shoes\,jewelry and accessories to books and gifts and so much more! Shop&nbsp\;</span>Herbergers<span style="line-height: 20.8px\;">\,&nbsp\;</span>JCPenney<span style="line-height: 20.8px\;">\, Old Navy &nbsp\;and ALL of our great stores for savings on summer and fall styles. Get a jumpstart on holiday shopping and winter fashions too\, at Hilltop Mall. And remember the mall on Halloween night\, always a safe and warm place to trick-or-treat!</span>
LOCATION:Hilltop Mall 5011 2nd Ave Kearney\, NE 68847
UID:e.1404.7015
SEQUENCE:3
DTSTAMP:20260422T083436Z
URL:https://members.kearneycoc.org/events/details/fall-sidewalk-sales-10-11-2015-7015
END:VEVENT

END:VCALENDAR
