BEGIN:VCALENDAR
VERSION:2.0
PRODID:-//ChamberMaster//Event Calendar 2.0//EN
METHOD:PUBLISH
X-PUBLISHED-TTL:P3D
REFRESH-INTERVAL:P3D
CALSCALE:GREGORIAN
BEGIN:VEVENT
DTSTART;VALUE=DATE:20161007
DTEND;VALUE=DATE:20161010
TRANSP:TRANSPARENT
X-MICROSOFT-CDO-ALLDAYEVENT:TRUE
SUMMARY:Fall Sidewalk Sales
DESCRIPTION:Sidewalk sales are the best time of the year to shop! Take advantage of huge clearance sales and new styles for fall at your favorite stores in the Hilltop Mall Friday October 7th to Sunday October 9th. Hours Friday & Saturday are 10am-9pm and Sunday 12-6pm.
X-ALT-DESC;FMTTYPE=text/html:Sidewalk sales are the best time of the year to shop! Take advantage of huge clearance sales and new styles for fall at your favorite stores in the Hilltop Mall Friday October 7th to Sunday October 9th. Hours Friday &amp\; Saturday are 10am-9pm and Sunday 12-6pm.
LOCATION:Hilltop Mall 5011 2nd Ave Kearney\, NE 68847
UID:e.1404.9048
SEQUENCE:3
DTSTAMP:20260421T122254Z
URL:https://members.kearneycoc.org/events/details/fall-sidewalk-sales-9048
END:VEVENT

END:VCALENDAR
