BEGIN:VCALENDAR
VERSION:2.0
PRODID:-//ChamberMaster//Event Calendar 2.0//EN
METHOD:PUBLISH
X-PUBLISHED-TTL:P3D
REFRESH-INTERVAL:P3D
CALSCALE:GREGORIAN
BEGIN:VEVENT
DTSTART:20211029T210000Z
DTEND:20211029T230000Z
X-MICROSOFT-CDO-ALLDAYEVENT:FALSE
SUMMARY:FALLAGANZA at Smallcakes of Kearney!
DESCRIPTION:Join Smallcakes of Kearney for some fall fun!  Meet Wonder Woman\, Elsa\, Woody\, and Cruella de Vil!  Kids who come in costume will receive a free mini cupcake and get their picture taken with the Disney characters.
X-ALT-DESC;FMTTYPE=text/html:Join Smallcakes of Kearney for some fall fun!&nbsp\; Meet Wonder Woman\, Elsa\, Woody\, and Cruella de Vil!&nbsp\; Kids who come in costume will receive a free mini cupcake and get their picture taken with the Disney characters.&nbsp\;&nbsp\;
LOCATION:Smallcakes of Kearney 2222 2nd Ave Suite 100 Kearney Ne 68847
UID:e.1404.19453
SEQUENCE:3
DTSTAMP:20260424T003608Z
URL:https://members.kearneycoc.org/events/details/fallaganza-at-smallcakes-of-kearney-19453
END:VEVENT

END:VCALENDAR
