BEGIN:VCALENDAR
VERSION:2.0
PRODID:-//ChamberMaster//Event Calendar 2.0//EN
METHOD:PUBLISH
X-PUBLISHED-TTL:P3D
REFRESH-INTERVAL:P3D
CALSCALE:GREGORIAN
BEGIN:VEVENT
DTSTART:20150110T150000Z
DTEND:20150110T220000Z
X-MICROSOFT-CDO-ALLDAYEVENT:FALSE
SUMMARY:Family Arts Day
DESCRIPTION:Experience the Fine Arts of Kearney through hands-on activities for K- 5th Grade! UNK Fine Arts Building Saturday\, January 10\, 2015 Choose Your Session: 9am to Noon OR 1pm to 4pm Check-In and Registration - 30 minutes prior to each session. Limited Availability! Early Registration available at kearneychildrensmuseum.org or visit the Kearney Hub\, Hy-Vee or MONA. Tickets also available at the door. $5 per child - parents FREE! (Scholarships available through the Kearney Children's Museum)
X-ALT-DESC;FMTTYPE=text/html:Experience the Fine Arts of Kearney through hands-on activities for K- 5th Grade! UNK Fine Arts Building Saturday\, January 10\, 2015 Choose Your Session: 9am to Noon OR 1pm to 4pm Check-In and Registration - 30 minutes prior to each session. Limited Availability! Early Registration available at kearneychildrensmuseum.org or visit the Kearney Hub\, Hy-Vee or MONA. Tickets also available at the door. $5 per child - parents FREE! (Scholarships available through the Kearney Children&#39\;s Museum)
LOCATION:UNK Fine Arts Building\, 905 W. 25th Street
UID:e.1404.5951
SEQUENCE:3
DTSTAMP:20260422T225746Z
URL:https://members.kearneycoc.org/events/details/family-arts-day-01-10-2015-5951
END:VEVENT

END:VCALENDAR
