BEGIN:VCALENDAR
VERSION:2.0
PRODID:-//ChamberMaster//Event Calendar 2.0//EN
METHOD:PUBLISH
X-PUBLISHED-TTL:P3D
REFRESH-INTERVAL:P3D
CALSCALE:GREGORIAN
BEGIN:VEVENT
DTSTART:20190309T190000Z
DTEND:20190309T220000Z
X-MICROSOFT-CDO-ALLDAYEVENT:FALSE
SUMMARY:Family Arts Festival
DESCRIPTION:For FAMILIES Family Arts Festival MONA and Kearney Cultural Partners (KCP) invite you to the annual Family Arts Festival to experience art\, dance\, music\, and more. At MONA participate in interactive educational art activities inspired by the exhibition A River Runs Through It\, featuring artworks by Nebraska artists including Terry Evans\, Michael Forsberg\, Paul Johnsgard\, Tom Mangelsen\, Joel Sartore\, among others.Dance away to music and songs provided by the friendliest family band in Nebraska   The String Beans\, with two 30-minute performances at 2:00 p.m. and 3:00 p.m. Saturday\, March 9   1:00-4:00 p.m.   FREE and open to the public
X-ALT-DESC;FMTTYPE=text/html:For FAMILIES Family Arts Festival MONA and Kearney Cultural Partners (KCP) invite you to the annual Family Arts Festival to experience art\, dance\, music\, and more. At MONA participate in interactive educational art activities inspired by the exhibition A River Runs Through It\, featuring artworks by Nebraska artists including Terry Evans\, Michael Forsberg\, Paul Johnsgard\, Tom Mangelsen\, Joel Sartore\, among others.Dance away to music and songs provided by the friendliest family band in Nebraska &ndash\; The String Beans\, with two 30-minute performances at 2:00 p.m. and 3:00 p.m. Saturday\, March 9 &bull\; 1:00-4:00 p.m. &ndash\; FREE and open to the public
LOCATION:Museum of Nebraska Art 2401 Central Avenue Kearney\, NE 68847
UID:e.1404.14421
SEQUENCE:3
DTSTAMP:20260426T033411Z
URL:https://members.kearneycoc.org/events/details/family-arts-festival-14421
END:VEVENT

END:VCALENDAR
