BEGIN:VCALENDAR
VERSION:2.0
PRODID:-//ChamberMaster//Event Calendar 2.0//EN
METHOD:PUBLISH
X-PUBLISHED-TTL:P3D
REFRESH-INTERVAL:P3D
CALSCALE:GREGORIAN
BEGIN:VEVENT
DTSTART:20141002T213000Z
DTEND:20141004T000000Z
X-MICROSOFT-CDO-ALLDAYEVENT:FALSE
SUMMARY:Family Fun Circus
DESCRIPTION:The Family Fun Circus is coming to the Buffalo County Fairgrounds with shows daily at 4:30 & 7pm. Arrive one hour before the show to ride the ponies\, grab some cotton candy\, and get a front row seat to this fun-filled show. There is a clown\, juggling\, hula hoop artisit\, aerialists\, and the human cannonball. All is featured under the Big Top!
X-ALT-DESC;FMTTYPE=text/html:The Family Fun Circus is coming to the Buffalo County Fairgrounds with shows daily at 4:30 &amp\; 7pm. Arrive one hour before the show to ride the ponies\, grab some cotton candy\, and get a front row seat to this fun-filled show. There is a clown\, juggling\, hula hoop artisit\, aerialists\, and the human cannonball. All is featured under the Big Top!
LOCATION:Buffalo County Fairgrounds 3807 Avenue N
UID:e.1404.5355
SEQUENCE:3
DTSTAMP:20260423T051131Z
URL:https://members.kearneycoc.org/events/details/family-fun-circus-10-02-2014-5355
END:VEVENT

END:VCALENDAR
