BEGIN:VCALENDAR
VERSION:2.0
PRODID:-//ChamberMaster//Event Calendar 2.0//EN
METHOD:PUBLISH
X-PUBLISHED-TTL:P3D
REFRESH-INTERVAL:P3D
CALSCALE:GREGORIAN
BEGIN:VEVENT
DTSTART:20190426T220000Z
DTEND:20190427T020000Z
X-MICROSOFT-CDO-ALLDAYEVENT:FALSE
SUMMARY:Family Karaoke Night
DESCRIPTION:First ever Family Karaoke Night at Funtastic!  From 5-9pm we will have Bunk House Karaoke will get our families to sing along while others jump!  We will also have Gaga Ball and Dodgeball games going on!  So bring the whole family and have a Fun Family Friday at FUNTASTIC!
X-ALT-DESC;FMTTYPE=text/html:<span style="background-color:#EE82EE"><span style="color:#000000"><strong><span style="font-family:comic sans ms"><span style="font-size:16px">First ever Family Karaoke Night at Funtastic!&nbsp\; From 5-9pm we will have Bunk House Karaoke will get our families to sing along while others jump!&nbsp\; We will also have Gaga Ball and Dodgeball games going on!&nbsp\; So bring the whole family and have a Fun Family Friday at FUNTASTIC!</span></span></strong></span></span>
LOCATION:2803 Ave N Kearney\, NE 68847
UID:e.1404.15949
SEQUENCE:3
DTSTAMP:20260426T020557Z
URL:https://members.kearneycoc.org/events/details/family-karaoke-night-15949
END:VEVENT

END:VCALENDAR
