BEGIN:VCALENDAR
VERSION:2.0
PRODID:-//ChamberMaster//Event Calendar 2.0//EN
METHOD:PUBLISH
X-PUBLISHED-TTL:P3D
REFRESH-INTERVAL:P3D
CALSCALE:GREGORIAN
BEGIN:VEVENT
DTSTART:20150911T160000Z
DTEND:20150911T183000Z
X-MICROSOFT-CDO-ALLDAYEVENT:FALSE
SUMMARY:Farmers & Merchants Bank Appreciation Barbeque
DESCRIPTION:Join us for an appreciation barbeque featuring great food and great company.
X-ALT-DESC;FMTTYPE=text/html:Join us for an appreciation barbeque featuring great food and great company.
LOCATION:Farmers & Merchants Bank 3015 2nd Avenue Kearney\, NE
UID:e.1404.6721
SEQUENCE:3
DTSTAMP:20260422T101908Z
URL:https://members.kearneycoc.org/events/details/farmers-merchants-bank-appreciation-barbeque-09-11-2015-6721
END:VEVENT

END:VCALENDAR
