BEGIN:VCALENDAR
VERSION:2.0
PRODID:-//ChamberMaster//Event Calendar 2.0//EN
METHOD:PUBLISH
X-PUBLISHED-TTL:P3D
REFRESH-INTERVAL:P3D
CALSCALE:GREGORIAN
BEGIN:VEVENT
DTSTART:20160430T150000Z
DTEND:20160430T190000Z
X-MICROSOFT-CDO-ALLDAYEVENT:FALSE
SUMMARY:Fashion Show and Expo
DESCRIPTION:Join us for fun and fashion on Saturday April 30th at the Merryman Performing Arts Center. There will be vendor booths that you can shop at for Mother's Day or graduation and a fashion show so you can see what's "hot" around Kearney! There will be raffle drawings as well so you may win! A complete listing of vendors is on the website!
X-ALT-DESC;FMTTYPE=text/html:Join us for fun and fashion on Saturday April 30th at the Merryman Performing Arts Center. There will be vendor booths that you can shop at for Mother&#39\;s Day or graduation and a fashion show so you can see what&#39\;s &quot\;hot&quot\; around Kearney! There will be raffle drawings as well so you may win! A complete listing of vendors is on the website!
LOCATION:Merryman Performing Arts Center
UID:e.1404.8727
SEQUENCE:3
DTSTAMP:20260421T220109Z
URL:https://members.kearneycoc.org/events/details/fashion-show-and-expo-04-30-2016-8727
END:VEVENT

END:VCALENDAR
