BEGIN:VCALENDAR
VERSION:2.0
PRODID:-//ChamberMaster//Event Calendar 2.0//EN
METHOD:PUBLISH
X-PUBLISHED-TTL:P3D
REFRESH-INTERVAL:P3D
CALSCALE:GREGORIAN
BEGIN:VEVENT
DTSTART:20130615T150000Z
DTEND:20130615T180000Z
X-MICROSOFT-CDO-ALLDAYEVENT:FALSE
SUMMARY:Father's Day Kids Workshop
DESCRIPTION:Kids! Build a gift for Dad for Father's Day! Join us Saturday\, June 15th from 10am to 1pm. Build a tool box or a photo box for Dad! Buy the product and we will help you put it all together. We'll provide the tools and training to make the best gift ever!
X-ALT-DESC;FMTTYPE=text/html:Kids! Build a gift for Dad for Father&#39\;s Day! Join us Saturday\, June 15th from 10am to 1pm. Build a tool box or a photo box for Dad! Buy the product and we will help you put it all together. We&#39\;ll provide the tools and training to make the best gift ever! 
LOCATION:Builders 4600 2nd Avenue Kearney
UID:e.1404.3196
SEQUENCE:3
DTSTAMP:20260424T081235Z
URL:https://members.kearneycoc.org/events/details/father-s-day-kids-workshop-06-15-2013-3196
END:VEVENT

END:VCALENDAR
