BEGIN:VCALENDAR
VERSION:2.0
PRODID:-//ChamberMaster//Event Calendar 2.0//EN
METHOD:PUBLISH
X-PUBLISHED-TTL:P3D
REFRESH-INTERVAL:P3D
CALSCALE:GREGORIAN
BEGIN:VEVENT
DTSTART:20191019T170000Z
DTEND:20191019T190000Z
X-MICROSOFT-CDO-ALLDAYEVENT:FALSE
SUMMARY:FCA Tailgate
DESCRIPTION:Before the Lopers take on Northwest Missouri St\, join us for the FCA Tailgate! Come enjoy food and fellowship with FCA Staff and Supporters as we get ready to cheer the Lopers on to Victory!
X-ALT-DESC;FMTTYPE=text/html:Before the Lopers take on Northwest Missouri St\, join us for the FCA Tailgate! Come enjoy food and fellowship with FCA Staff and Supporters as we get ready to cheer the Lopers on to Victory!
LOCATION:Parking Lot - Ron and Carol Cope Stadium
UID:e.1404.17937
SEQUENCE:3
DTSTAMP:20260425T163438Z
URL:https://members.kearneycoc.org/events/details/fca-tailgate-17937
END:VEVENT

END:VCALENDAR
