BEGIN:VCALENDAR
VERSION:2.0
PRODID:-//ChamberMaster//Event Calendar 2.0//EN
METHOD:PUBLISH
X-PUBLISHED-TTL:P3D
REFRESH-INTERVAL:P3D
CALSCALE:GREGORIAN
BEGIN:VEVENT
DTSTART:20121027T133000Z
DTEND:20121027T170000Z
X-MICROSOFT-CDO-ALLDAYEVENT:FALSE
SUMMARY:Fearless 5K by the Kearney Jaycees and Kearney Tackles Cancer
DESCRIPTION:The Kearney Jaycees are teaming up with the Kearney Tackles Cancer Group to put this 5K on! A portion of the proceeds will go to the Kearney Tackles Cancer Group. To ensure you get a shirt\, register before October 12. You can register online at kearneyjaycees.org. The fee is $15 or $20 for race day entries.
X-ALT-DESC;FMTTYPE=text/html:<p>\n	The Kearney Jaycees are teaming up with the Kearney Tackles Cancer Group to put this 5K on! A portion of the proceeds will go to the Kearney Tackles Cancer Group. To ensure you get a shirt\, register before October 12. You can register online at kearneyjaycees.org. The fee is $15 or $20 for race day entries.</p>\n
LOCATION:Yanney Park in Kearney\, NE
UID:e.1404.2187
SEQUENCE:3
DTSTAMP:20260425T002617Z
URL:https://members.kearneycoc.org/events/details/fearless-5k-by-the-kearney-jaycees-and-kearney-tackles-cancer-10-27-2012-2187
END:VEVENT

END:VCALENDAR
