BEGIN:VCALENDAR
VERSION:2.0
PRODID:-//ChamberMaster//Event Calendar 2.0//EN
METHOD:PUBLISH
X-PUBLISHED-TTL:P3D
REFRESH-INTERVAL:P3D
CALSCALE:GREGORIAN
BEGIN:VEVENT
DTSTART:20160306T233000Z
DTEND:20160307T020000Z
X-MICROSOFT-CDO-ALLDAYEVENT:FALSE
SUMMARY:Fellowship of Christian Athletes Legacy Fundraiser Dinner
DESCRIPTION:FCA Legacy Dinners are designed to provide financial and volunteer resources necessary to carry out the FCA mission.
X-ALT-DESC;FMTTYPE=text/html:FCA Legacy Dinners are designed to provide financial&nbsp\;and volunteer resources necessary to carry out&nbsp\;the FCA mission.
LOCATION:Younes Conference Center
UID:e.1404.7328
SEQUENCE:3
DTSTAMP:20260421T234251Z
URL:https://members.kearneycoc.org/events/details/fellowship-of-christian-athletes-legacy-fundraiser-dinner-03-06-2016-7328
END:VEVENT

END:VCALENDAR
