BEGIN:VCALENDAR
VERSION:2.0
PRODID:-//ChamberMaster//Event Calendar 2.0//EN
METHOD:PUBLISH
X-PUBLISHED-TTL:P3D
REFRESH-INTERVAL:P3D
CALSCALE:GREGORIAN
BEGIN:VEVENT
DTSTART:20150703T230000Z
DTEND:20150704T040000Z
X-MICROSOFT-CDO-ALLDAYEVENT:FALSE
SUMMARY:Fireworks Extravaganza 2015
DESCRIPTION:Kearney's July 3 Independence Day Celebration and fireworks show returns to the Viaero Event Center.\n\n\n\nThe Kearney Area Chamber of Commerce\, which hosts and organizes the fireworks show\, teams with the Viaero Event Center each year in presenting the event.\n\n\n\nFamilies are invited to gather and tailgate in the evening prior to the fireworks display. Those attending also are allowed to bring their own food and beverages.
X-ALT-DESC;FMTTYPE=text/html:<span style="color: rgb(34\, 34\, 34)\; font-family: HelveticaNeueW01-55Roma\; font-size: 18px\; line-height: 24px\;">Kearney&#39\;s July 3 Independence Day Celebration and fireworks show returns to the Viaero Event Center.</span><br style="line-height: normal\; color: rgb(34\, 34\, 34)\; font-family: HelveticaNeueW01-55Roma\; font-size: 18px\;" />\n<br style="line-height: normal\; color: rgb(34\, 34\, 34)\; font-family: HelveticaNeueW01-55Roma\; font-size: 18px\;" />\n<span style="color: rgb(34\, 34\, 34)\; font-family: HelveticaNeueW01-55Roma\; font-size: 18px\; line-height: 24px\;">The Kearney Area Chamber of Commerce\, which hosts and organizes the fireworks show\, teams with the Viaero Event Center each year in presenting the event.</span><br style="line-height: normal\; color: rgb(34\, 34\, 34)\; font-family: HelveticaNeueW01-55Roma\; font-size: 18px\;" />\n<br style="line-height: normal\; color: rgb(34\, 34\, 34)\; font-family: HelveticaNeueW01-55Roma\; font-size: 18px\;" />\n<span style="color: rgb(34\, 34\, 34)\; font-family: HelveticaNeueW01-55Roma\; font-size: 18px\; line-height: 24px\;">Families are invited to gather and tailgate in the evening prior to the fireworks display. Those attending also are allowed to bring their own food and beverages.</span>
LOCATION:Viaero Event Center 609 Platte Rd Kearney\, NE 68847
UID:e.1404.6250
SEQUENCE:3
DTSTAMP:20260422T132620Z
URL:https://members.kearneycoc.org/events/details/fireworks-extravaganza-2015-07-03-2015-6250
END:VEVENT

END:VCALENDAR
