BEGIN:VCALENDAR
VERSION:2.0
PRODID:-//ChamberMaster//Event Calendar 2.0//EN
METHOD:PUBLISH
X-PUBLISHED-TTL:P3D
REFRESH-INTERVAL:P3D
CALSCALE:GREGORIAN
BEGIN:VEVENT
DTSTART:20120703T220000Z
DTEND:20120704T000000Z
X-MICROSOFT-CDO-ALLDAYEVENT:FALSE
SUMMARY:Fireworks Tailgate Party @ Fanatics
DESCRIPTION:Fanatic's Sports Bar & KearneyBars.com are teaming up to have a party to celebrate our Independence from the Brits.\n\n	When you show up\, you'lll have access to our special "Red\, White & Blue Drinks" throughout the night\, as well as food items that are exploding with so much flavor that you'll want to start a revolution!\n\n	\n\n	No cover at the Door\, this party is a limited time (2 hours only) tailgate party starting at 5pm\, at Fanatic's\, right before the city wide fireworks show starts. Any KearneyBars.com fan that says "I AM Free!" while holding your fist in the air triumphantly\, will get their first round on Fanatics & KearneyBars.com! :D\n\n	Oh Ya\, there is also a prize of $20 (in drinking money) that will be given out to the person that looks the most "Independent". :) What does this mean to you? The KearneyBars.com girls will be the final judge at the end of the party and you (YES\, I AM POINTING AT YOU!) could be the new owner of a $20 bill! Photographic evidence for our website is a must :)
X-ALT-DESC;FMTTYPE=text/html:<p style="margin: 0px 0px 1.2em\; padding: 0px\; border: 0px\; outline: 0px\; vertical-align: baseline\; background-color: rgb(252\, 244\, 232)\; color: rgb(65\, 75\, 82)\; font-family: Arial\, serif\; line-height: 20px\; ">\n	<a href="http://kearneybars.com/users/fanatics-sports-bar/profile/" style="margin: 0px\; padding: 0px\; vertical-align: baseline\; background-color: transparent\; color: rgb(160\, 27\, 22)\; text-decoration: none\; -webkit-tap-highlight-color: rgb(255\, 94\, 153)\; " target="_blank" title="Fanatic's Profile Page">Fanatic&rsquo\;s Sports Bar</a>&nbsp\;&amp\; KearneyBars.com are teaming up to have a&nbsp\;party to celebrate&nbsp\;<a href="http://en.wikipedia.org/wiki/Independence_Day_%28United_States%29" style="margin: 0px\; padding: 0px\; vertical-align: baseline\; background-color: transparent\; color: rgb(160\, 27\, 22)\; text-decoration: none\; -webkit-tap-highlight-color: rgb(255\, 94\, 153)\; " target="_blank" title="Wikipedia Definition (in case you have no idea what I'm talking about)">our Independence</a>&nbsp\;from the Brits.</p>\n<p style="margin: 0px 0px 1.2em\; padding: 0px\; border: 0px\; outline: 0px\; vertical-align: baseline\; background-color: rgb(252\, 244\, 232)\; color: rgb(65\, 75\, 82)\; font-family: Arial\, serif\; line-height: 20px\; ">\n	When you show up\, you&rsquo\;lll have access to our special &ldquo\;Red\, White &amp\; Blue Drinks&rdquo\; throughout the night\, as well as food items that are exploding with so much flavor that you&rsquo\;ll want to start a revolution!</p>\n<p style="margin: 0px 0px 1.2em\; padding: 0px\; border: 0px\; outline: 0px\; vertical-align: baseline\; background-color: rgb(252\, 244\, 232)\; color: rgb(65\, 75\, 82)\; font-family: Arial\, serif\; line-height: 20px\; ">\n	<br />\n	<strong style="margin: 0px\; padding: 0px\; border: 0px\; outline: 0px\; vertical-align: baseline\; background-color: transparent\; ">No cover at the Door</strong>\, this party is a limited time (2 hours only) tailgate party starting at 5pm\, at&nbsp\;<a href="http://kearneybars.com/users/fanatics-sports-bar/profile/" style="margin: 0px\; padding: 0px\; vertical-align: baseline\; background-color: transparent\; color: rgb(160\, 27\, 22)\; text-decoration: none\; -webkit-tap-highlight-color: rgb(255\, 94\, 153)\; " target="_blank" title="Fanatic's Profile Page">Fanatic&rsquo\;s</a>\, right before the city wide fireworks show starts. Any KearneyBars.com fan that says &ldquo\;<strong style="margin: 0px\; padding: 0px\; border: 0px\; outline: 0px\; vertical-align: baseline\; background-color: transparent\; ">I AM Free!</strong>&rdquo\; while holding your fist in the air triumphantly\, will get their first round on Fanatics &amp\; KearneyBars.com! :D</p>\n<p style="margin: 0px 0px 1.2em\; padding: 0px\; border: 0px\; outline: 0px\; vertical-align: baseline\; background-color: rgb(252\, 244\, 232)\; color: rgb(65\, 75\, 82)\; font-family: Arial\, serif\; line-height: 20px\; ">\n	Oh Ya\, there is also a&nbsp\;<strong style="margin: 0px\; padding: 0px\; border: 0px\; outline: 0px\; vertical-align: baseline\; background-color: transparent\; ">prize of $20 (in&nbsp\;drinking money)</strong>&nbsp\;that will be given out to the person that looks the most &ldquo\;Independent&rdquo\;. :)&nbsp\;<strong style="margin: 0px\; padding: 0px\; border: 0px\; outline: 0px\; vertical-align: baseline\; background-color: transparent\; ">What does this mean to you?&nbsp\;</strong>The KearneyBars.com girls will be the final judge at the end of the party and you (YES\, I AM POINTING AT YOU!) could be the new owner of a $20 bill! Photographic evidence for our website is a must :)</p>\n
LOCATION:Fanatic's Sports Bar - 2021 Central Avenue Kearney\, NE 68847
UID:e.1404.1945
SEQUENCE:3
DTSTAMP:20260425T032918Z
URL:https://members.kearneycoc.org/events/details/fireworks-tailgate-party-fanatics-07-03-2012-1945
END:VEVENT

END:VCALENDAR
