BEGIN:VCALENDAR
VERSION:2.0
PRODID:-//ChamberMaster//Event Calendar 2.0//EN
METHOD:PUBLISH
X-PUBLISHED-TTL:P3D
REFRESH-INTERVAL:P3D
CALSCALE:GREGORIAN
BEGIN:VEVENT
DTSTART:20140126T153000Z
DTEND:20140126T170000Z
X-MICROSOFT-CDO-ALLDAYEVENT:FALSE
SUMMARY:First Lutheran Preschool Breakfast Fundraiser
DESCRIPTION:RISE & SHINE and help support First Lutheran Preschool with a Free Will Donation at their Annual Breakfast Fundraiser to be held on Sunday\, January 26 from 9:30-11:00 am in Centennial Hall. Come eat warm and delicious breakfast casseroles\, fruit\, muffins\, etc. in support of First Lutheran Preschool. The FLC Preschool students will sing at the 8:45 Worship Service\, and artwork created by our students\, will be on display.
X-ALT-DESC;FMTTYPE=text/html:RISE &amp\; SHINE and help support First Lutheran Preschool with a Free Will Donation at their Annual Breakfast Fundraiser to be held on Sunday\, January 26 from 9:30-11:00 am in Centennial Hall. Come eat warm and delicious breakfast casseroles\, fruit\, muffins\, etc. in support of First Lutheran Preschool. The FLC Preschool students will sing at the 8:45 Worship Service\, and artwork created by our students\, will be on display.
LOCATION:First Lutheran Church 3315 G Avenue Kearney\, NE 68847
UID:e.1404.4421
SEQUENCE:3
DTSTAMP:20260423T195516Z
URL:https://members.kearneycoc.org/events/details/first-lutheran-preschool-breakfast-fundraiser-01-26-2014-4421
END:VEVENT

END:VCALENDAR
