BEGIN:VCALENDAR
VERSION:2.0
PRODID:-//ChamberMaster//Event Calendar 2.0//EN
METHOD:PUBLISH
X-PUBLISHED-TTL:P3D
REFRESH-INTERVAL:P3D
CALSCALE:GREGORIAN
BEGIN:VEVENT
DTSTART:20150428T210000Z
DTEND:20150428T230000Z
X-MICROSOFT-CDO-ALLDAYEVENT:FALSE
SUMMARY:Fly Kearney Open House
DESCRIPTION:Join us for a public open house Tuesday\,April 28th from 4-6pm.  CEO of Great Lakes Airlines\, Chuck Howell will be giving a brief address. Refreshments & Hors d' oeuvres will be served.
X-ALT-DESC;FMTTYPE=text/html:Join us for a public open house Tuesday\,April 28th from&nbsp\;4-6pm. &nbsp\;CEO of Great Lakes Airlines\, Chuck Howell will be giving a brief address. Refreshments &amp\; Hors d&#39\;&nbsp\;oeuvres will be served.&nbsp\;
LOCATION:Kearney Regional Airport FBO Airport Hanger 5145 Airport Road Kearney\, NE 68847
UID:e.1404.6217
SEQUENCE:3
DTSTAMP:20260422T195505Z
URL:https://members.kearneycoc.org/events/details/fly-kearney-open-house-04-28-2015-6217
END:VEVENT

END:VCALENDAR
