BEGIN:VCALENDAR
VERSION:2.0
PRODID:-//ChamberMaster//Event Calendar 2.0//EN
METHOD:PUBLISH
X-PUBLISHED-TTL:P3D
REFRESH-INTERVAL:P3D
CALSCALE:GREGORIAN
BEGIN:VEVENT
DTSTART:20130421T000000Z
DTEND:20130421T050000Z
X-MICROSOFT-CDO-ALLDAYEVENT:FALSE
SUMMARY:Fools Night Out:
DESCRIPTION:Please join us at Fool's Night Out to support the growth and development of individuals in our community while enjoying an evening filled with fun\, friends and festivities...Fool's Night Out includes casino games\, mock horse races\, a silent auction and great food. Must be 21 years of age or older to attend after 9PM
X-ALT-DESC;FMTTYPE=text/html:Please join us at Fool&#39\;s Night Out to support the growth and development of individuals in our community while enjoying an evening filled with fun\, friends and festivities...Fool&#39\;s Night Out includes casino games\, mock horse races\, a silent auction and great food. Must be 21 years of age or older to attend after 9PM
LOCATION:MidTown Event Center 115 E 21st
UID:e.1404.2488
SEQUENCE:3
DTSTAMP:20260424T140100Z
URL:https://members.kearneycoc.org/events/details/fools-night-out-04-20-2013-2488
END:VEVENT

END:VCALENDAR
