BEGIN:VCALENDAR
VERSION:2.0
PRODID:-//ChamberMaster//Event Calendar 2.0//EN
METHOD:PUBLISH
X-PUBLISHED-TTL:P3D
REFRESH-INTERVAL:P3D
CALSCALE:GREGORIAN
BEGIN:VEVENT
DTSTART:20140725T000000Z
DTEND:20140727T000000Z
X-MICROSOFT-CDO-ALLDAYEVENT:FALSE
SUMMARY:FOOTLOOSE
DESCRIPTION:Crane River Theater Company presents FOOTLOOSE the Musical!  Packed with some of the most memorable songs from the 1980s\, this show is sure to leave you singing and dancing all the way home!
X-ALT-DESC;FMTTYPE=text/html:Crane River Theater Company presents FOOTLOOSE the Musical! &nbsp\;Packed with some of the most memorable songs from the 1980s\, this show is sure to leave you singing and dancing all the way home!
LOCATION:Merryman Performing Arts Center 225 West 22nd Street\, Kearney
UID:e.1404.5168
SEQUENCE:3
DTSTAMP:20260423T100937Z
URL:https://members.kearneycoc.org/events/details/footloose-07-24-2014-5168
END:VEVENT

END:VCALENDAR
