BEGIN:VCALENDAR
VERSION:2.0
PRODID:-//ChamberMaster//Event Calendar 2.0//EN
METHOD:PUBLISH
X-PUBLISHED-TTL:P3D
REFRESH-INTERVAL:P3D
CALSCALE:GREGORIAN
BEGIN:VEVENT
DTSTART:20140730T000000Z
DTEND:20140803T190000Z
X-MICROSOFT-CDO-ALLDAYEVENT:FALSE
SUMMARY:FOOTLOOSE
DESCRIPTION:Crane River Theater Company presents FOOTLOOSE the Musical.  Packed with some of the most memorable songs of the 1980s\, this show is sure to leave you singing and dancing all the way home!
X-ALT-DESC;FMTTYPE=text/html:Crane River Theater Company presents FOOTLOOSE the Musical. &nbsp\;Packed with some of the most memorable songs of the 1980s\, this show is sure to leave you singing and dancing all the way home!
LOCATION:Merryman Performing Arts Center
UID:e.1404.5169
SEQUENCE:3
DTSTAMP:20260423T083257Z
URL:https://members.kearneycoc.org/events/details/footloose-07-29-2014-5169
END:VEVENT

END:VCALENDAR
