BEGIN:VCALENDAR
VERSION:2.0
PRODID:-//ChamberMaster//Event Calendar 2.0//EN
METHOD:PUBLISH
X-PUBLISHED-TTL:P3D
REFRESH-INTERVAL:P3D
CALSCALE:GREGORIAN
BEGIN:VEVENT
DTSTART:20191019T160000Z
DTEND:20191019T190000Z
X-MICROSOFT-CDO-ALLDAYEVENT:FALSE
SUMMARY:Free Car Seat Checks
DESCRIPTION:The Kearney Regional Maternity Care Center and Safe Kids Nebraska are hosting a FREE car seat safety check event.\n\nChecks will take place in the Maternity Care Center parking lot   which is located on the south side of the KRMC Campus.\n\nCertified technicians will check your child's car seat for:\n\n  Proper fit to child\n\n  Proper installation\n\n  Recalls\n\n  Damage\n\nTours of the Maternity Care Center will also be available upon request.
X-ALT-DESC;FMTTYPE=text/html:<p>The Kearney Regional Maternity Care Center and Safe Kids Nebraska are hosting a FREE car seat safety check event.</p>\n\n<p>Checks will take place in the Maternity Care Center parking lot &ndash\; which is located on the south side of the KRMC Campus.</p>\n\n<p>Certified technicians will check your child&rsquo\;s car seat for:<br />\n&middot\; Proper fit to child<br />\n&middot\; Proper installation<br />\n&middot\; Recalls<br />\n&middot\; Damage</p>\n\n<p>Tours of the Maternity Care Center will also be available upon request.</p>\n
LOCATION:Kearney Regional Medical Center - Maternity Care Center 804 22nd Avenue Kearney\, NE 68847 United States
UID:e.1404.18191
SEQUENCE:3
DTSTAMP:20260425T164003Z
URL:https://members.kearneycoc.org/events/details/free-car-seat-checks-18191
END:VEVENT

END:VCALENDAR
