BEGIN:VCALENDAR
VERSION:2.0
PRODID:-//ChamberMaster//Event Calendar 2.0//EN
METHOD:PUBLISH
X-PUBLISHED-TTL:P3D
REFRESH-INTERVAL:P3D
CALSCALE:GREGORIAN
BEGIN:VEVENT
DTSTART:20160910T140000Z
DTEND:20160910T150000Z
X-MICROSOFT-CDO-ALLDAYEVENT:FALSE
SUMMARY:Free Device Workshop Provides Tips for Families as Students Head Back to School
DESCRIPTION:September signifies that school is back in session. Pencils are sharpened\, while homework is spread across the kitchen table. The start of a school year also is a common time for students to get their first cellphone. In fact\, a recent U.S. Cellular survey found that on average\, children receive their first cellphone at age 11. U.S. Cellular associates will help students and families prepare for the school year during a free Device Workshop. Attendees will learn how to use their devices\, such as an iPad Air 2\, iPhone 6s or a Samsung Galaxy S7\, to study for the next test\, look up information or practice a foreign language. Guests don't have to be U.S. Cellular customers to attend. "Our associates are available to show parents and kids how to use a smartphone or tablet to enhance and simplify learning\," said Mike Adams\, U.S. Cellular's director of sales for Nebraska and Iowa. "Our high-quality nationwide network connects students to the information they need to succeed in school." You may call 308-236-2075 for more information or to RSVP.
X-ALT-DESC;FMTTYPE=text/html:September signifies that school is back in session. Pencils are sharpened\, while homework is spread across the kitchen table. The start of a school year also is a common time for students to get their first cellphone. In fact\, a recent U.S. Cellular survey found that on average\, children receive their first cellphone at age 11. U.S. Cellular associates will help students and families prepare for the school year during a free Device Workshop. Attendees will learn how to use their devices\, such as an iPad Air 2\, iPhone 6s or a Samsung Galaxy S7\, to study for the next test\, look up information or practice a foreign language. Guests don&rsquo\;t have to be U.S. Cellular customers to attend. &ldquo\;Our associates are available to show parents and kids how to use a smartphone or tablet to enhance and simplify learning\,&rdquo\; said Mike Adams\, U.S. Cellular&rsquo\;s director of sales for Nebraska and Iowa. &ldquo\;Our high-quality nationwide network connects students to the information they need to succeed in school.&rdquo\; You may call 308-236-2075 for more information or to RSVP.
LOCATION:U.S. Cellular 5603 Second Ave. Kearney\, NE 68845
UID:e.1404.9019
SEQUENCE:3
DTSTAMP:20260421T140506Z
URL:https://members.kearneycoc.org/events/details/free-device-workshop-provides-tips-for-families-as-students-head-back-to-school-9019
END:VEVENT

END:VCALENDAR
