BEGIN:VCALENDAR
VERSION:2.0
PRODID:-//ChamberMaster//Event Calendar 2.0//EN
METHOD:PUBLISH
X-PUBLISHED-TTL:P3D
REFRESH-INTERVAL:P3D
CALSCALE:GREGORIAN
BEGIN:VEVENT
DTSTART:20210819T210000Z
DTEND:20210820T010000Z
X-MICROSOFT-CDO-ALLDAYEVENT:FALSE
SUMMARY:Free Family Fun Night
DESCRIPTION:Enjoy free admission into the Kearney Area Children's Museum from 4:00-8:00pm provided by Trius Federal Credit Union! Special activities will be provided between 5:00-7:00pm\n\n\n\nSee you there!
X-ALT-DESC;FMTTYPE=text/html:Enjoy free admission into the Kearney Area Children&#39\;s Museum from 4:00-8:00pm provided by Trius Federal Credit Union! Special activities will be provided between 5:00-7:00pm<br />\n<br />\nSee you there!
LOCATION:Kearney Area Children's Museum The Alia Arram Memorial Building 5827 4th Avenue\, Kearney\, NE 68845
UID:e.1404.19359
SEQUENCE:3
DTSTAMP:20260424T021503Z
URL:https://members.kearneycoc.org/events/details/free-family-fun-night-08-19-2021-19359
END:VEVENT

END:VCALENDAR
