BEGIN:VCALENDAR
VERSION:2.0
PRODID:-//ChamberMaster//Event Calendar 2.0//EN
METHOD:PUBLISH
X-PUBLISHED-TTL:P3D
REFRESH-INTERVAL:P3D
CALSCALE:GREGORIAN
BEGIN:VEVENT
DTSTART:20211021T210000Z
DTEND:20211022T010000Z
X-MICROSOFT-CDO-ALLDAYEVENT:FALSE
SUMMARY:Free Family Fun Night
DESCRIPTION:Join UNK Chemistry Students for a special Free Family Fun Night that explores the fun and importance of science from 5:00-7:00 pm in our Party Room.\n\nFamilies can enjoy free admission from 4:00-8:00pm. Visit our sponsors table for more fun activities!\n\nSponsored by Trius Federal Credit Union
X-ALT-DESC;FMTTYPE=text/html:<p><strong>Join </strong><strong>UNK Chemistry Students</strong><strong> for a special Free Family Fun Night that explores the fun and importance of science from 5:00-7:00 pm in our Party Room.</strong></p>\n\n<p><strong>Families can enjoy free admission from 4:00-8:00pm. Visit our sponsors table for more fun activities!<br />\nSponsored by Trius Federal Credit Union</strong><br />\n&nbsp\;</p>\n
LOCATION:Kearney Area Children's Museum 5827 4th Avenue\, Kearney\, NE 68845
UID:e.1404.19432
SEQUENCE:3
DTSTAMP:20260423T232738Z
URL:https://members.kearneycoc.org/events/details/free-family-fun-night-10-21-2021-19432
END:VEVENT

END:VCALENDAR
