BEGIN:VCALENDAR
VERSION:2.0
PRODID:-//ChamberMaster//Event Calendar 2.0//EN
METHOD:PUBLISH
X-PUBLISHED-TTL:P3D
REFRESH-INTERVAL:P3D
CALSCALE:GREGORIAN
BEGIN:VEVENT
DTSTART:20190718T210000Z
DTEND:20190719T010000Z
X-MICROSOFT-CDO-ALLDAYEVENT:FALSE
SUMMARY:Free Family Fun Night with Eaton Corporation
DESCRIPTION:Come in from the heat and enjoy an evening at your local children's museum! In addition to exploring exhibits\, activities include face painting from 4-6pm\, free sno-cones and balloon animals from 4-8pm! Special thank you to our sponsor\, Eaton Corporation!
X-ALT-DESC;FMTTYPE=text/html:Come in from the heat and enjoy an evening at your local children&#39\;s museum! In addition to exploring exhibits\, activities include face painting from 4-6pm\, free sno-cones and balloon animals from 4-8pm! Special thank you to our sponsor\, Eaton Corporation!
LOCATION:Kearney Area Children's Museum Alia Arram Memorial Building 5827 4th Avenue\, Kearney\, NE 68845
UID:e.1404.16567
SEQUENCE:3
DTSTAMP:20260425T213427Z
URL:https://members.kearneycoc.org/events/details/free-family-fun-night-with-eaton-corporation-16567
END:VEVENT

END:VCALENDAR
