BEGIN:VCALENDAR
VERSION:2.0
PRODID:-//ChamberMaster//Event Calendar 2.0//EN
METHOD:PUBLISH
X-PUBLISHED-TTL:P3D
REFRESH-INTERVAL:P3D
CALSCALE:GREGORIAN
BEGIN:VEVENT
DTSTART:20191017T210000Z
DTEND:20191018T010000Z
X-MICROSOFT-CDO-ALLDAYEVENT:FALSE
SUMMARY:Free Family Fun Night with Trius Federal Credit Union
DESCRIPTION:Enjoy free admission and fun Halloween face painting! Sponsored by Trius Federal Credit Union
X-ALT-DESC;FMTTYPE=text/html:Enjoy free admission and fun Halloween face painting! Sponsored by Trius Federal Credit Union
LOCATION:Kearney Area Children's Museum Alia Arram Memorial Building 5827 4th Avenue\, Kearney\, NE 68845
UID:e.1404.18157
SEQUENCE:3
DTSTAMP:20260425T164240Z
URL:https://members.kearneycoc.org/events/details/free-family-fun-night-with-trius-federal-credit-union-10-17-2019-18157
END:VEVENT

END:VCALENDAR
