BEGIN:VCALENDAR
VERSION:2.0
PRODID:-//ChamberMaster//Event Calendar 2.0//EN
METHOD:PUBLISH
X-PUBLISHED-TTL:P3D
REFRESH-INTERVAL:P3D
CALSCALE:GREGORIAN
BEGIN:VEVENT
DTSTART:20220915T210000Z
DTEND:20220916T010000Z
X-MICROSOFT-CDO-ALLDAYEVENT:FALSE
SUMMARY:Free Family Fun Night with UNMC
DESCRIPTION:Free Admission to the Kearney Area Children's Museum and special activities provided by University of Nebraska Medical Center at UNK.
X-ALT-DESC;FMTTYPE=text/html:Free Admission to the Kearney Area Children&#39\;s Museum and special activities provided by University of Nebraska Medical Center at UNK.
LOCATION:Kearney Area Children's Museum 5827 4th Ave\, Kearney\, NE 68845
UID:e.1404.20071
SEQUENCE:3
DTSTAMP:20260421T084347Z
URL:https://members.kearneycoc.org/events/details/free-family-fun-night-with-unmc-20071
END:VEVENT

END:VCALENDAR
