BEGIN:VCALENDAR
VERSION:2.0
PRODID:-//ChamberMaster//Event Calendar 2.0//EN
METHOD:PUBLISH
X-PUBLISHED-TTL:P3D
REFRESH-INTERVAL:P3D
CALSCALE:GREGORIAN
BEGIN:VEVENT
DTSTART:20210701T220000Z
DTEND:20210702T031500Z
X-MICROSOFT-CDO-ALLDAYEVENT:FALSE
SUMMARY:Freedom Fest
DESCRIPTION:United Way presents...Freedom Fest! This family-friendly event welcomes residents of the Kearney area and surrounding communities. The event provides music\, free food\, carnival games\, and BINGO. $12 wristbands are sold for attendees to experience attractions from RockIT Event Pros such as a zip line\, free fall tower\, kiddie ferris wheel\, trackless train\, numerous inflatables\, and more. Tailgating is welcomed and a large firework show will bring the night to a close\, which begins just after 10 PM. Free-will donations are accepted and appreciated. Premier parking is available for $50.
X-ALT-DESC;FMTTYPE=text/html:United Way presents...Freedom Fest! This family-friendly event welcomes residents of the Kearney area and surrounding communities. The event provides music\, free food\, carnival games\, and BINGO. $12 wristbands are sold for attendees to experience attractions from RockIT Event Pros such as a zip line\, free fall tower\, kiddie ferris wheel\, trackless train\, numerous inflatables\, and more. Tailgating is welcomed and a large firework show will bring the night to a close\, which begins just after 10 PM. Free-will donations are accepted and appreciated. Premier parking is available for $50.
LOCATION:Viaero Center 609 Platte Road Kearney\, NE 68847
UID:e.1404.19327
SEQUENCE:3
DTSTAMP:20260424T035215Z
URL:https://members.kearneycoc.org/events/details/freedom-fest-19327
END:VEVENT

END:VCALENDAR
