BEGIN:VCALENDAR
VERSION:2.0
PRODID:-//ChamberMaster//Event Calendar 2.0//EN
METHOD:PUBLISH
X-PUBLISHED-TTL:P3D
REFRESH-INTERVAL:P3D
CALSCALE:GREGORIAN
BEGIN:VEVENT
DTSTART:20190703T220000Z
DTEND:20190704T033000Z
X-MICROSOFT-CDO-ALLDAYEVENT:FALSE
SUMMARY:Freedom Fest presented by the United Way of the Kearney Area
DESCRIPTION:We hope you can make to Freedom Fest!
X-ALT-DESC;FMTTYPE=text/html:We hope you can make to Freedom Fest!
LOCATION:Viaero Event Center
UID:e.1404.16519
SEQUENCE:3
DTSTAMP:20260425T213425Z
URL:https://members.kearneycoc.org/events/details/freedom-fest-presented-by-the-united-way-of-the-kearney-area-16519
END:VEVENT

END:VCALENDAR
