BEGIN:VCALENDAR
VERSION:2.0
PRODID:-//ChamberMaster//Event Calendar 2.0//EN
METHOD:PUBLISH
X-PUBLISHED-TTL:P3D
REFRESH-INTERVAL:P3D
CALSCALE:GREGORIAN
BEGIN:VEVENT
DTSTART;VALUE=DATE:20260223
DTEND;VALUE=DATE:20260224
TRANSP:TRANSPARENT
X-MICROSOFT-CDO-ALLDAYEVENT:TRUE
SUMMARY:Friends of Law Enforcement Committee
DESCRIPTION:Friends of Law Enforcement Committee will meet to discuss ways to support our local law enforcement.
X-ALT-DESC;FMTTYPE=text/html:Friends of Law Enforcement Committee will meet to discuss ways to support our local law enforcement.
LOCATION:Kearney Area Chamber of Commerce Buffalo Room
UID:e.1404.26190
SEQUENCE:3
DTSTAMP:20260426T043726Z
URL:https://members.kearneycoc.org/events/details/friends-of-law-enforcement-committee-26190
END:VEVENT

END:VCALENDAR
