BEGIN:VCALENDAR
VERSION:2.0
PRODID:-//ChamberMaster//Event Calendar 2.0//EN
METHOD:PUBLISH
X-PUBLISHED-TTL:P3D
REFRESH-INTERVAL:P3D
CALSCALE:GREGORIAN
BEGIN:VEVENT
DTSTART;VALUE=DATE:20150924
DTEND;VALUE=DATE:20150927
TRANSP:TRANSPARENT
X-MICROSOFT-CDO-ALLDAYEVENT:TRUE
SUMMARY:Friends of the Library Annual Book Sale
DESCRIPTION:Thursday\, Sept. 24: 10:00am - 8:00pm\n\nFriday\, Sept. 25: 10:00am - 4:00pm\n\nSaturday\, Sept. 26: 10:00am - 12:00pm\n\n\n\nInterested in helping? \n\nCall Judy at 308-234-3034
X-ALT-DESC;FMTTYPE=text/html:Thursday\, Sept. 24: 10:00am - 8:00pm<br />\nFriday\, Sept. 25: 10:00am - 4:00pm<br />\nSaturday\, Sept. 26: 10:00am - 12:00pm<br />\n<br />\nInterested in helping?&nbsp\;<br />\nCall Judy at 308-234-3034
LOCATION:Kearney Public Library 2020 1st Ave. 2nd Floor - Platte Rooms
UID:e.1404.6728
SEQUENCE:3
DTSTAMP:20260422T102047Z
URL:https://members.kearneycoc.org/events/details/friends-of-the-library-annual-book-sale-09-24-2015-6728
END:VEVENT

END:VCALENDAR
