BEGIN:VCALENDAR
VERSION:2.0
PRODID:-//ChamberMaster//Event Calendar 2.0//EN
METHOD:PUBLISH
X-PUBLISHED-TTL:P3D
REFRESH-INTERVAL:P3D
CALSCALE:GREGORIAN
BEGIN:VEVENT
DTSTART:20191026T000000Z
DTEND:20191026T023000Z
X-MICROSOFT-CDO-ALLDAYEVENT:FALSE
SUMMARY:Fright Night - Exclusive Haunted House Access
DESCRIPTION:Need a little more spook in your life? Join us for our "Fright Nights" Exclusive Haunted House where guests will experience the museum in a new light or lack there of. \n\n\n\nThis event is designed to be enjoyed by the whole family\, especially Tweens! Don't worry\, there will be some laughter and screams throughout the whole experience.
X-ALT-DESC;FMTTYPE=text/html:Need a little more spook in your life? Join us for our &ldquo\;Fright Nights&rdquo\; Exclusive Haunted House where guests will experience the museum in a new light&hellip\;or lack there of.&nbsp\;<br />\n<br />\nThis event is designed to be enjoyed by the whole family\, especially Tweens! Don&rsquo\;t worry\, there will be some laughter and screams throughout the whole experience.&nbsp\;<br />\n&nbsp\;
LOCATION:Kearney Area Children's Museum Alia Arram Memorial Building 5827 4th Avenue\, Kearney\, NE 68845
UID:e.1404.18187
SEQUENCE:3
DTSTAMP:20260425T163859Z
URL:https://members.kearneycoc.org/events/details/fright-night-exclusive-haunted-house-access-18187
END:VEVENT

END:VCALENDAR
