BEGIN:VCALENDAR
VERSION:2.0
PRODID:-//ChamberMaster//Event Calendar 2.0//EN
METHOD:PUBLISH
X-PUBLISHED-TTL:P3D
REFRESH-INTERVAL:P3D
CALSCALE:GREGORIAN
BEGIN:VEVENT
DTSTART;VALUE=DATE:20201209
DTEND;VALUE=DATE:20210104
TRANSP:TRANSPARENT
X-MICROSOFT-CDO-ALLDAYEVENT:TRUE
SUMMARY:Frosty FM
DESCRIPTION:This year we could all use a little Christmas.  Frosty FM\, 106.9 FM is Central Nebraska's Christmas Station.  Listen live on 106.9 FM or 93.1HD or for live streaming go to krvn.com and click the live stream button on the left hand side of the page and select Frosty FM.
X-ALT-DESC;FMTTYPE=text/html:This year we could all use a little Christmas.&nbsp\; Frosty FM\, 106.9 FM is Central Nebraska&#39\;s Christmas Station.&nbsp\; Listen live on 106.9 FM or 93.1HD or for live streaming go to <a href="http://krvn.com">krvn.com</a> and click the live stream button on the left hand side of the page and select Frosty FM.
LOCATION:www.krvn.com 106.9FM or 93.1HD
UID:e.1404.18777
SEQUENCE:3
DTSTAMP:20260424T155509Z
URL:https://members.kearneycoc.org/events/details/frosty-fm-18777
END:VEVENT

END:VCALENDAR
